BEGIN:VCALENDAR
VERSION:2.0
PRODID:-//Maison Saint-Michel - ECPv6.15.11//NONSGML v1.0//EN
CALSCALE:GREGORIAN
METHOD:PUBLISH
X-WR-CALNAME:Maison Saint-Michel
X-ORIGINAL-URL:https://www.maison-accueil-saint-michel.com
X-WR-CALDESC:Évènements pour Maison Saint-Michel
REFRESH-INTERVAL;VALUE=DURATION:PT1H
X-Robots-Tag:noindex
X-PUBLISHED-TTL:PT1H
BEGIN:VTIMEZONE
TZID:Europe/Paris
BEGIN:DAYLIGHT
TZOFFSETFROM:+0100
TZOFFSETTO:+0200
TZNAME:CEST
DTSTART:20250330T010000
END:DAYLIGHT
BEGIN:STANDARD
TZOFFSETFROM:+0200
TZOFFSETTO:+0100
TZNAME:CET
DTSTART:20251026T010000
END:STANDARD
BEGIN:DAYLIGHT
TZOFFSETFROM:+0100
TZOFFSETTO:+0200
TZNAME:CEST
DTSTART:20260329T010000
END:DAYLIGHT
BEGIN:STANDARD
TZOFFSETFROM:+0200
TZOFFSETTO:+0100
TZNAME:CET
DTSTART:20261025T010000
END:STANDARD
BEGIN:DAYLIGHT
TZOFFSETFROM:+0100
TZOFFSETTO:+0200
TZNAME:CEST
DTSTART:20270328T010000
END:DAYLIGHT
BEGIN:STANDARD
TZOFFSETFROM:+0200
TZOFFSETTO:+0100
TZNAME:CET
DTSTART:20271031T010000
END:STANDARD
END:VTIMEZONE
BEGIN:VEVENT
DTSTART;TZID=Europe/Paris:20260311T193000
DTEND;TZID=Europe/Paris:20260311T213000
DTSTAMP:20260419T160406
CREATED:20251014T103723Z
LAST-MODIFIED:20251127T182825Z
UID:2714-1773257400-1773264600@www.maison-accueil-saint-michel.com
SUMMARY:Projection du film : "L’Illusion de l’abondance"
DESCRIPTION:Un film sur des femmes qui ont le courage de s’opposer aux multinationales pour conserver leur territoire de vie. Bertha\, Carolina et Maxima nous racontent une histoire de courage tenace : comment continuer à se battre pour protéger la nature\, la terre qu’elles exploitent pour vivre lorsque votre vie est en danger\, lorsque la répression policière\, le harcèlement des entreprises\, les blessures ou même les menaces de mort font partie de votre quotidien ? \nCes femmes sont le symbole de la lutte contre l’impunité dont jouissent les multinationales en matière de droits humains. \nLe CCFD-Terre Solidaire est partenaire de ce film documentaire réalisé en 2022 \nParticipation : 6€
URL:https://www.maison-accueil-saint-michel.com/event/projection-du-film-lillusion-de-labondance/
LOCATION:Maison Saint-Michel\, 51 RUE DE GUEBWILLER\, ISSENHEIM\, Haut-Rhin\, 68500\, France
CATEGORIES:Conférence
ATTACH;FMTTYPE=image/jpeg:https://www.maison-accueil-saint-michel.com/wp-content/uploads/2025/08/imagecinedebat4mai.jpg
ORGANIZER;CN="Maison Saint-Michel":MAILTO:maison-st-michel@providence-ribeauville.net
END:VEVENT
BEGIN:VEVENT
DTSTART;TZID=Europe/Paris:20260318T193000
DTEND;TZID=Europe/Paris:20260318T213000
DTSTAMP:20260419T160406
CREATED:20251014T103129Z
LAST-MODIFIED:20251127T182825Z
UID:2698-1773862200-1773869400@www.maison-accueil-saint-michel.com
SUMMARY:A la lumière de Hildegarde de Bingen
DESCRIPTION:Approche thérapeuthique de notre bien –être : soigner notre immunité\, gérer le stress\, combattre le vieillissement etc… \nColette Pontabry\, naturopathe hildegardienne
URL:https://www.maison-accueil-saint-michel.com/event/a-la-lumiere-de-hildegarde-de-bingen/
LOCATION:Maison Saint-Michel\, 51 RUE DE GUEBWILLER\, ISSENHEIM\, Haut-Rhin\, 68500\, France
CATEGORIES:Conférence
ATTACH;FMTTYPE=image/png:https://www.maison-accueil-saint-michel.com/wp-content/uploads/2025/06/hildegarde-1.png
ORGANIZER;CN="Maison Saint-Michel":MAILTO:maison-st-michel@providence-ribeauville.net
END:VEVENT
END:VCALENDAR