BEGIN:VCALENDAR
VERSION:2.0
PRODID:-//Maison Saint-Michel - ECPv6.15.11//NONSGML v1.0//EN
CALSCALE:GREGORIAN
METHOD:PUBLISH
X-ORIGINAL-URL:https://www.maison-accueil-saint-michel.com
X-WR-CALDESC:Évènements pour Maison Saint-Michel
REFRESH-INTERVAL;VALUE=DURATION:PT1H
X-Robots-Tag:noindex
X-PUBLISHED-TTL:PT1H
BEGIN:VTIMEZONE
TZID:Europe/Paris
BEGIN:DAYLIGHT
TZOFFSETFROM:+0100
TZOFFSETTO:+0200
TZNAME:CEST
DTSTART:20250330T010000
END:DAYLIGHT
BEGIN:STANDARD
TZOFFSETFROM:+0200
TZOFFSETTO:+0100
TZNAME:CET
DTSTART:20251026T010000
END:STANDARD
BEGIN:DAYLIGHT
TZOFFSETFROM:+0100
TZOFFSETTO:+0200
TZNAME:CEST
DTSTART:20260329T010000
END:DAYLIGHT
BEGIN:STANDARD
TZOFFSETFROM:+0200
TZOFFSETTO:+0100
TZNAME:CET
DTSTART:20261025T010000
END:STANDARD
BEGIN:DAYLIGHT
TZOFFSETFROM:+0100
TZOFFSETTO:+0200
TZNAME:CEST
DTSTART:20270328T010000
END:DAYLIGHT
BEGIN:STANDARD
TZOFFSETFROM:+0200
TZOFFSETTO:+0100
TZNAME:CET
DTSTART:20271031T010000
END:STANDARD
END:VTIMEZONE
BEGIN:VEVENT
DTSTART;TZID=Europe/Paris:20260225T193000
DTEND;TZID=Europe/Paris:20260225T213000
DTSTAMP:20260420T023257
CREATED:20251014T103047Z
LAST-MODIFIED:20251127T182825Z
UID:2691-1772047800-1772055000@www.maison-accueil-saint-michel.com
SUMMARY:Entre lucidité et espérance\, un chemin de conversion
DESCRIPTION:Michel Maxime Egger vient nous aider à réfléchir\, à nous situer face aux défis actuels et à garder un regard d’espérance tout en restant lucide. \nMichel Maxime Egger\, sociologue et éco- théologien \, ancré depuis toujours sur les questions d’écologie\, de spiritualité et d’engagement \nRéenchanter notre relation au vivant – Écopsychologie et Écospiritualité\, Genève\, Jouvence\, 2022   \nReliance. Manuel de transition intérieure\, co-écrit avec Tylie Grosjean et Elie Wattelet\, Arles\, Actes Sud\, 2023   \nÀ l’écoute de la création\, Bière\, Cabédita\, 2024 
URL:https://www.maison-accueil-saint-michel.com/event/entre-lucidite-et-esperance-un-chemin-de-conversion/
LOCATION:Maison Saint-Michel\, 51 RUE DE GUEBWILLER\, ISSENHEIM\, Haut-Rhin\, 68500\, France
CATEGORIES:Conférence
ATTACH;FMTTYPE=image/jpeg:https://www.maison-accueil-saint-michel.com/wp-content/uploads/2025/06/2020_Egger-Michel-Maxime-1536x1536-1.jpg
ORGANIZER;CN="Maison Saint-Michel":MAILTO:maison-st-michel@providence-ribeauville.net
END:VEVENT
END:VCALENDAR