BEGIN:VCALENDAR
VERSION:2.0
PRODID:-//Maison Saint-Michel - ECPv6.15.11//NONSGML v1.0//EN
CALSCALE:GREGORIAN
METHOD:PUBLISH
X-WR-CALNAME:Maison Saint-Michel
X-ORIGINAL-URL:https://www.maison-accueil-saint-michel.com
X-WR-CALDESC:Évènements pour Maison Saint-Michel
REFRESH-INTERVAL;VALUE=DURATION:PT1H
X-Robots-Tag:noindex
X-PUBLISHED-TTL:PT1H
BEGIN:VTIMEZONE
TZID:Europe/Paris
BEGIN:DAYLIGHT
TZOFFSETFROM:+0100
TZOFFSETTO:+0200
TZNAME:CEST
DTSTART:20250330T010000
END:DAYLIGHT
BEGIN:STANDARD
TZOFFSETFROM:+0200
TZOFFSETTO:+0100
TZNAME:CET
DTSTART:20251026T010000
END:STANDARD
BEGIN:DAYLIGHT
TZOFFSETFROM:+0100
TZOFFSETTO:+0200
TZNAME:CEST
DTSTART:20260329T010000
END:DAYLIGHT
BEGIN:STANDARD
TZOFFSETFROM:+0200
TZOFFSETTO:+0100
TZNAME:CET
DTSTART:20261025T010000
END:STANDARD
BEGIN:DAYLIGHT
TZOFFSETFROM:+0100
TZOFFSETTO:+0200
TZNAME:CEST
DTSTART:20270328T010000
END:DAYLIGHT
BEGIN:STANDARD
TZOFFSETFROM:+0200
TZOFFSETTO:+0100
TZNAME:CET
DTSTART:20271031T010000
END:STANDARD
END:VTIMEZONE
BEGIN:VEVENT
DTSTART;TZID=Europe/Paris:20260322T140000
DTEND;TZID=Europe/Paris:20260322T160000
DTSTAMP:20260420T172408
CREATED:20260306T210934Z
LAST-MODIFIED:20260306T211024Z
UID:2928-1774188000-1774195200@www.maison-accueil-saint-michel.com
SUMMARY:Festival Ecoutons nos racines : Atelier chant - Lily Jung
DESCRIPTION:La voix chantée possède un pouvoir profond sur notre bien-être. Elle nous élève\, nous apaise dans les moments de tension\, nous redonne de l’énergie lorsque la fatigue se fait sentir et nous reconnecte à notre joie intérieure ainsi qu’à notre enfant intérieur. \nLe chant est bien plus qu’une simple expression artistique : c’est un véritable outil de transformation et de guérison. En chantant\, nous créons un lien authentique avec les autres\, avec la nature et avec quelque chose de plus grand que nous. \nAujourd’hui plus que jamais\, il est essentiel d’oser chanter et découvrir sa voix. Explorer sa voix permet de s’exprimer librement\, de se relier à son intimité et à la profondeur de son être\, pour nourrir son propre équilibre et contribuer au bien-être collectif. \nBillet : https://www.helloasso.com/associations/la-nature-au-coeur-alsace/evenements/atelier-de-chant-anime-par-lily-jung-festival-ecoutons-nos-racines-2026
URL:https://www.maison-accueil-saint-michel.com/event/atelier-chant-lily-jung/
CATEGORIES:Atelier
ATTACH;FMTTYPE=image/jpeg:https://www.maison-accueil-saint-michel.com/wp-content/uploads/2026/03/lilychant.jpg
END:VEVENT
END:VCALENDAR